BEGIN:VCALENDAR
VERSION:2.0
PRODID:-//สมาคมไทยแนะแนวการศึกษาต่อต่างประเทศ (TIECA) - ECPv6.0.7.1//NONSGML v1.0//EN
CALSCALE:GREGORIAN
METHOD:PUBLISH
X-ORIGINAL-URL:https://tieca.org
X-WR-CALDESC:Events for สมาคมไทยแนะแนวการศึกษาต่อต่างประเทศ (TIECA)
REFRESH-INTERVAL;VALUE=DURATION:PT1H
X-Robots-Tag:noindex
X-PUBLISHED-TTL:PT1H
BEGIN:VTIMEZONE
TZID:Asia/Bangkok
BEGIN:STANDARD
TZOFFSETFROM:+0700
TZOFFSETTO:+0700
TZNAME:+07
DTSTART:20260101T000000
END:STANDARD
END:VTIMEZONE
BEGIN:VEVENT
DTSTART;TZID=Asia/Bangkok:20260421T190000
DTEND;TZID=Asia/Bangkok:20260421T213000
DTSTAMP:20260424T200823
CREATED:20260423T040343Z
LAST-MODIFIED:20260423T040701Z
UID:11596-1776798000-1776807000@tieca.org
SUMMARY:วันที่ 21 เมษายน 2569  คุณพัชราภรณ์ บุญเกิด นายกสมาคมฯ และคุณนพวรรณ จำปาเงิน ผู้จัดการสมาคมฯ รับเชิญเข้าร่วมงาน QS Discover Master’s & MBA Fair
DESCRIPTION:วันที่ 21 เมษายน 2569\nคุณพัชราภรณ์ บุญเกิด นายกสมาคมฯ และคุณนพวรรณ จำปาเงิน ผู้จัดการสมาคมฯ รับเชิญเข้าร่วมงาน QS Discover Master’s & MBA Fair ณ โรงแรมฮิลตัน กรุงเทพ แกรนด์ อโศก เวลา 19.00-21.30 \nงานนี้จัดขึ้นเพื่อให้ผู้สนใจเรียนต่อต่างประเทศ ได้พบและพูดคุย โดยตรงกับมหาวิทยาลัยและโรงเรียนธุรกิจชั้นนำระดับโลก เพื่อรับข้อมูล รวมทุนการศึกษาของสถาบันแต่ละแห่ง
URL:https://tieca.org/event/%e0%b8%a7%e0%b8%b1%e0%b8%99%e0%b8%97%e0%b8%b5%e0%b9%88-21-%e0%b9%80%e0%b8%a1%e0%b8%a9%e0%b8%b2%e0%b8%a2%e0%b8%99-2569-%e0%b8%84%e0%b8%b8%e0%b8%93%e0%b8%9e%e0%b8%b1%e0%b8%8a%e0%b8%a3%e0%b8%b2%e0%b8%a0/
LOCATION:โรงแรมฮิลตัน กรุงเทพ แกรนด์ อโศก
CATEGORIES:TIECA Events
ATTACH;FMTTYPE=image/jpeg:https://tieca.org/wp-content/uploads/2026/04/QS-Event.jpg
END:VEVENT
END:VCALENDAR