BEGIN:VCALENDAR
VERSION:2.0
PRODID:-//สมาคมไทยแนะแนวการศึกษาต่อต่างประเทศ (TIECA) - ECPv6.0.7.1//NONSGML v1.0//EN
CALSCALE:GREGORIAN
METHOD:PUBLISH
X-ORIGINAL-URL:https://tieca.org
X-WR-CALDESC:Events for สมาคมไทยแนะแนวการศึกษาต่อต่างประเทศ (TIECA)
REFRESH-INTERVAL;VALUE=DURATION:PT1H
X-Robots-Tag:noindex
X-PUBLISHED-TTL:PT1H
BEGIN:VTIMEZONE
TZID:Asia/Bangkok
BEGIN:STANDARD
TZOFFSETFROM:+0700
TZOFFSETTO:+0700
TZNAME:+07
DTSTART:20250101T000000
END:STANDARD
END:VTIMEZONE
BEGIN:VEVENT
DTSTART;VALUE=DATE:20251028
DTEND;VALUE=DATE:20251029
DTSTAMP:20260423T051015
CREATED:20251031T054615Z
LAST-MODIFIED:20251031T055500Z
UID:11262-1761609600-1761695999@tieca.org
SUMMARY:คณะกรรมการบริหารสมาคมฯ สมาชิกสมาคมฯ รับเชิญเข้าร่วมงาน BCCT Insight :Thailand and International Education: Trends\, Analysis\, and Outlook
DESCRIPTION:28 ต.ค. 2568\nคณะกรรมการบริหารสมาคมฯ สมาชิกสมาคมฯ รับเชิญเข้าร่วมงาน BCCT Insight :Thailand and International Education: Trends\, Analysis\, and Outlook ณ British Chamber of Commerce Thailand (BCCT) ชั้น 18 อาคาร Two Pacific Place \nวัตถุประสงค์ของงาน คือ เพื่อนำเสนอข้อมูลเชิงวิเคราะห์และแนวโน้มของการศึกษานานาชาติในประเทศไทย รวมถึงการเติบโตของโรงเรียนนานาชาติและการศึกษาข้ามพรมแดนในไทยและภูมิภาค\nพฤติกรรมการไปศึกษาต่อต่างประเทศของนักเรียนไทย (Student mobility)\nปัจจัยทางเศรษฐกิจ กฎระเบียบ และภูมิรัฐศาสตร์ ที่ส่งผลต่อภาคการศึกษานานาชาติ\nผลกระทบต่อผู้เรียน ผู้ปกครอง ครู ผู้บริหารโรงเรียน เอเจนซี่แนะแนว และผู้ทำงานในวงการนี้ \n 
URL:https://tieca.org/event/%e0%b8%84%e0%b8%93%e0%b8%b0%e0%b8%81%e0%b8%a3%e0%b8%a3%e0%b8%a1%e0%b8%81%e0%b8%b2%e0%b8%a3%e0%b8%9a%e0%b8%a3%e0%b8%b4%e0%b8%ab%e0%b8%b2%e0%b8%a3%e0%b8%aa%e0%b8%a1%e0%b8%b2%e0%b8%84%e0%b8%a1%e0%b8%af-3/
LOCATION:Two Pacific Place
CATEGORIES:TIECA Events
ATTACH;FMTTYPE=image/png:https://tieca.org/wp-content/uploads/2025/10/TIECA_Activity_01.png
END:VEVENT
BEGIN:VEVENT
DTSTART;TZID=Asia/Bangkok:20251104T100000
DTEND;TZID=Asia/Bangkok:20251104T120000
DTSTAMP:20260423T051015
CREATED:20251104T072112Z
LAST-MODIFIED:20251224T072912Z
UID:11308-1762250400-1762257600@tieca.org
SUMMARY:สมาชิก TIECA เข้าร่วมฟังข้อมูลหลักสูตร Summer / Young Learners Program กับสถาบัน EC English ในงาน EC Young Learners Workshop
DESCRIPTION:วันที่ 4 พ.ย. 2568 \nเวลา 10.00-12.00 น. ณ ห้อง Ficus\, the Garden Zone\, Eastin Grand Phayathai Hotel \n  \n 
URL:https://tieca.org/event/%e0%b8%aa%e0%b8%a1%e0%b8%b2%e0%b8%8a%e0%b8%b4%e0%b8%81-tieca-%e0%b9%80%e0%b8%82%e0%b9%89%e0%b8%b2%e0%b8%a3%e0%b9%88%e0%b8%a7%e0%b8%a1%e0%b8%9f%e0%b8%b1%e0%b8%87%e0%b8%82%e0%b9%89%e0%b8%ad%e0%b8%a1/
LOCATION:โรงแรมอีสติน แกรนด์ พญาไท\, Thailand
CATEGORIES:TIECA Events
ATTACH;FMTTYPE=image/png:https://tieca.org/wp-content/uploads/2025/11/Topup.png
END:VEVENT
BEGIN:VEVENT
DTSTART;TZID=Asia/Bangkok:20251108T130000
DTEND;TZID=Asia/Bangkok:20251108T163000
DTSTAMP:20260423T051015
CREATED:20251103T032848Z
LAST-MODIFIED:20251103T032848Z
UID:11288-1762606800-1762619400@tieca.org
SUMMARY:OEC Smart Start Expo 2025 มางานเดียวจบ พร้อมคุยกับ 30+ สถาบันตัวจริง...เคลียร์ทุกอย่างที่สงสัยพร้อมรับทุนเพียบ
DESCRIPTION:#วันเดียวคุ้ม มหกรรมเรียนต่อต่างประเทศ 2025 #แจกทุนเรียนฟรี 100% แค่ลงทะเบียนก็มีสิทธิ์ลุ้น! สิทธิพิเศษเฉพาะผู้ลงทะเบียนออนไลน์ล่วงหน้าเท่านั้น\n#OECSmartStartExpo2025 มางานเดียวจบ พร้อมคุยกับ 30+ สถาบันตัวจริง…เคลียร์ทุกอย่างที่สงสัยพร้อมรับทุนเพียบ\n. \nOEC SmartStart Expo 2025\n🗓️ วันเสาร์ที่ 8 พ.ย. 68\n⏰ 13:00 – 16:30 น.\n📍 โรงแรม InterContinental Bangkok\, (BTS ชิดลม)\n✅ เข้าร่วมงานฟรี ลงทะเบียนเลย 👉 https://www.oecglobal.net/application6/\n.\n✨ มางานนี้…ได้อะไรกลับไปบ้าง?\n🏆 ลุ้นรางวัลใหญ่ #ทุนเรียนฟรีที่ประเทศอังกฤษ และทุนเรียนภาษาออนไลน์ฟรี 3 เดือน!\n💰 โอกาสรับทุนสูงสุด 100% จากสถาบันชั้นนำที่เข้าร่วมงาน \n👩‍⚕️ ทุนเรียนพยาบาลฟรี 100% ที่สิงคโปร์ เรียนจบพร้อมทำงานต่อ 6 ปี\n🤝 เจอตัวจริงกว่า 30 สถาบัน พูดคุยโดยตรงกับเจ้าหน้าที่จากมหาวิทยาลัย\, College\, และโรงเรียนภาษาทั่วโลก!\n🎤 ฟัง 4 สัมมนาสุด Exclusive อัปเดตเทรนด์การเรียนต่อ\, เทคนิคเขียน CV\, และเส้นทางสู่มหาลัยท็อป!\n✨ กิจกรรมสนุกๆ อีกเพียบ (แอบกระซิบว่ามีทั้งดูดวง สแกนนิ้ว และ Photobooth ด้วยนะ!)\n💸 พิเศษ! รับส่วนลดทันที 5\,000 บาท เมื่อสมัครเรียนทุกโปรแกรมภายในงาน\n.\n👉 อ่านรายละเอียดเพิ่มเติม https://www.oecglobal.com/OECSmartStartExpo.html
URL:https://tieca.org/event/oec-smart-start-expo-2025-%e0%b8%a1%e0%b8%b2%e0%b8%87%e0%b8%b2%e0%b8%99%e0%b9%80%e0%b8%94%e0%b8%b5%e0%b8%a2%e0%b8%a7%e0%b8%88%e0%b8%9a-%e0%b8%9e%e0%b8%a3%e0%b9%89%e0%b8%ad%e0%b8%a1%e0%b8%84%e0%b8%b8/
LOCATION:โรงแรม InterContinental Bangkok\, (BTS ชิดลม)
CATEGORIES:Agent Events
ATTACH;FMTTYPE=image/jpeg:https://tieca.org/wp-content/uploads/2025/11/OEC_SmartStart_Expo_8Nov25-website.jpg
END:VEVENT
BEGIN:VEVENT
DTSTART;TZID=Asia/Bangkok:20251108T133000
DTEND;TZID=Asia/Bangkok:20251108T160000
DTSTAMP:20260423T051015
CREATED:20251103T035326Z
LAST-MODIFIED:20251103T040009Z
UID:11297-1762608600-1762617600@tieca.org
SUMMARY:เรียนต่อจีนต้องรู้ พบกับข้อมูลเจาะลึกข้อสอบ CSCA จัดโดยศูนย์แนะแนวโอเวอร์ซีส์ สตั้ดดี้ ฮับ
DESCRIPTION:👍 อยากไปเรียนจีนเชิญทางนี้ จัดแน่นครบทุกมิติ \n  \n\nรู้จักมหาวิทยาลัยจีน\nการเตรียมตัว วิธีการเลือกมหาวิทยาลัย และ เกณฑ์คุณสมบัติ\nข้อสอบ CSCA\nประเภทของทุนจีน Guarantee Scholarship มีอยู่จริงไหม\nรับข้อมูล และ Panel Discussion กับอาจารย์มหาวิทยาลัยBeijing Foreign Studies (BFSU) Top 20 ของจีน (บินตรงมาจากกรุงปักกิ่ง)\nพบปะพูดคุยกับพี่ศิษย์เก่า ที่จบจากมหาวิทยาลัยประเทศจีน\n\n  \nงานนี้เข้าฟังฟรีนะคะ 😄 \nแจ้งชื่อ และจำนวนคนที่เข้าฟังได้เลยค่ะ \n  \n📆 วันเสาร์ที่ 8 พฤศจิกายน 2568 (13:30-16:00) \n📍 โรงแรม AVANI – สุขุมวิท \n🚊 สถานีรถไฟฟ้า BTS อ่อนนุช \n📞 086 393 1938
URL:https://tieca.org/event/%e0%b9%80%e0%b8%a3%e0%b8%b5%e0%b8%a2%e0%b8%99%e0%b8%95%e0%b9%88%e0%b8%ad%e0%b8%88%e0%b8%b5%e0%b8%99%e0%b8%95%e0%b9%89%e0%b8%ad%e0%b8%87%e0%b8%a3%e0%b8%b9%e0%b9%89-%e0%b8%9e%e0%b8%9a%e0%b8%81%e0%b8%b1/
LOCATION:โรงแรม AVANI – สุขุมวิท
CATEGORIES:Agent Events
ATTACH;FMTTYPE=image/jpeg:https://tieca.org/wp-content/uploads/2025/11/website.jpg
END:VEVENT
BEGIN:VEVENT
DTSTART;TZID=Asia/Bangkok:20251109T130000
DTEND;TZID=Asia/Bangkok:20251109T170000
DTSTAMP:20260423T051015
CREATED:20251031T061503Z
LAST-MODIFIED:20251103T035624Z
UID:11282-1762693200-1762707600@tieca.org
SUMMARY:เรียนต่อออสเตรเลียกับมหาวิทยาลัยอันดับ 1 ของประเทศ อันดับ 19 ของโลก พบกันที่งาน  The University of Melbourne Open Day Bangkok 2025
DESCRIPTION:เรียนต่อออสเตรเลียกับมหาวิทยาลัยอันดับ 1 ของประเทศ อันดับ 19 ของโลก พบกันที่งาน  The University of Melbourne Open Day Bangkok 2025 \n🗓 Date: Sunday 9 November 2025 \n🕐 Time: 1:00 – 5:00 pm \n🏢 Venue: State Room 1-2\, The Westin Grande Sukhumvit 8th floor  (BTS Asok Exit 5) \n🔗 Register: https://bit.ly/unimelbBkk2025 \n**ร่วมงานฟรี!! โดยไม่เสียค่าใช้จ่ายใดๆทั้งสิ้น** \nภายในงานน้องๆ จะได้รับข้อมูลเกี่ยวกับมหาวิทยาลัย The University of Melbourne เกณฑ์การรับสมัครของแต่ละคณะ ทุนการศึกษาตลอดจนการเตรียมตัวก่อนเดินทาง จากเจ้าหน้าที่มหาวิทยาลัยโดยตรง \nเจ้าหน้าที่จากคณะที่จะมาพบกันในงานนี้ \n🔹Faculty of Business\, Economies \n🔹Faculty of Education \n🔹Melbourne Law School \n🔹Faculty of Science \n🔹Faculty of Arts \n🔹Trinity College \nสอบถามข้อมูลเพิ่มเติมกับเรา Education For Life เราเป็นตัวแทนของมหาวิทยาลัย The University of Melbourne อย่างเป็นทางการ บริการฟรีทุกขั้นตอน \n〰 Tel : 091-742-5900 \n〰 Line Official Account : @EFLBKK
URL:https://tieca.org/event/%e0%b9%80%e0%b8%a3%e0%b8%b5%e0%b8%a2%e0%b8%99%e0%b8%95%e0%b9%88%e0%b8%ad%e0%b8%ad%e0%b8%ad%e0%b8%aa%e0%b9%80%e0%b8%95%e0%b8%a3%e0%b9%80%e0%b8%a5%e0%b8%b5%e0%b8%a2%e0%b8%81%e0%b8%b1%e0%b8%9a%e0%b8%a1/
LOCATION:The Westin Grande Sukhumvit
CATEGORIES:Agent Events
ATTACH;FMTTYPE=image/png:https://tieca.org/wp-content/uploads/2025/10/openhouse_fb1.png
END:VEVENT
BEGIN:VEVENT
DTSTART;TZID=Asia/Bangkok:20251112T140000
DTEND;TZID=Asia/Bangkok:20251112T160000
DTSTAMP:20260423T051015
CREATED:20251112T224823Z
LAST-MODIFIED:20251211T034840Z
UID:11352-1762956000-1762963200@tieca.org
SUMMARY:คุณศรินยา โตมรศักดิ์ เลขาธิการสมาคมฯ ร่วมประชุมสมาคมการค้ากลุ่มการค้าไทย-นานาชาติ ครั้งที่ 1/2568 เวลา 14.00-16.00 น. ณ ห้องประชุม 2307 ชั้น 3 อาคารจรูญ สีบุญเรือง สภาหอการค้าแห่งประเทศไทย
DESCRIPTION:12 พฤศจิกายน 2568 \nคุณศรินยา โตมรศักดิ์ เลขาธิการสมาคมฯ ร่วมประชุมสมาคมการค้ากลุ่มการค้าไทย-นานาชาติ ครั้งที่ 1/2568 เวลา 14.00-16.00 น. ณ ห้องประชุม 2307 ชั้น3 อาคารจรูญ สีบุญเรือง สภาหอการค้าแห่งประเทศไทย \nสภาหอการค้าแห่งประเทศไทย มีนโยบายสำคัญในการส่งเสริมและพัฒนาการรวมกลุ่มเครือข่ายสมาคมการค้า เพื่อเพิ่มขีดความสามารถในการแข่งขัน และการพัฒนาเศรษฐกิจของประเทศ จึงได้แต่งตั้ง คณะกรรมการส่งเสริมและพัฒนาสมาคมการค้า เพื่อช่วยดูแล สนับสนุน และส่งเสริมสมาคมการค้าที่เป็นสมาชิกของสภาหอการค้าฯ โดยสมาคมไทยแนะแนวการศึกษาต่อต่างประเทศ เป็นหนึ่งในกรรมการ ของสมาคมการค้ากลุ่มการค้าไทย-นานาชาติ
URL:https://tieca.org/event/12-%e0%b8%9e-%e0%b8%a2-2568-%e0%b8%84%e0%b8%b8%e0%b8%93%e0%b8%a8%e0%b8%a3%e0%b8%b4%e0%b8%99%e0%b8%a2%e0%b8%b2-%e0%b9%82%e0%b8%95%e0%b8%a1%e0%b8%a3%e0%b8%a8%e0%b8%b1%e0%b8%81%e0%b8%94%e0%b8%b4/
LOCATION:สภาหอการค้าแห่งประเทศไทย
CATEGORIES:TIECA Events
ATTACH;FMTTYPE=image/jpeg:https://tieca.org/wp-content/uploads/2025/11/IMG_0919-1.jpeg
END:VEVENT
BEGIN:VEVENT
DTSTART;TZID=Asia/Bangkok:20251118T090000
DTEND;TZID=Asia/Bangkok:20251118T160000
DTSTAMP:20260423T051015
CREATED:20251211T032920Z
LAST-MODIFIED:20251224T072501Z
UID:11445-1763456400-1763481600@tieca.org
SUMMARY:สมาชิกสมาคมฯ รับเชิญเข้าร่วมงาน CPF & APF Bangkok (Canada Partnership Forum & America Partnership Forum)
DESCRIPTION:18 พฤศจิกายน 2568 \nโดยมีสถาบันจากประเทศแคนาดา และสหรัฐอเมริกา มาอัพเดทข้อมูลหลักสูตรต่างๆ ให้กับตัวแทนจากบริษัทแนะแนวการศึกษาต่อต่างประเทศ สถาบันที่เข้าร่วมงาน มีดังนี้ \n• ILAC Education Group & UniApplyNow\n• Royal Roads University\n• Trine University\n• Saskatchewan Polytechnic\n• International Business University\n• Algoma University\n• Selkirk College\n• Langara College \nเวลา 9.00 -16.00 น. ณ The St. Regis Bangkok \n       
URL:https://tieca.org/event/%e0%b8%aa%e0%b8%a1%e0%b8%b2%e0%b8%8a%e0%b8%b4%e0%b8%81%e0%b8%aa%e0%b8%a1%e0%b8%b2%e0%b8%84%e0%b8%a1%e0%b8%af-%e0%b8%a3%e0%b8%b1%e0%b8%9a%e0%b9%80%e0%b8%8a%e0%b8%b4%e0%b8%8d%e0%b9%80%e0%b8%82%e0%b9%89/
LOCATION:The St. Regis Bangkok
CATEGORIES:TIECA Events
ATTACH;FMTTYPE=image/png:https://tieca.org/wp-content/uploads/2025/12/APF.png
END:VEVENT
BEGIN:VEVENT
DTSTART;TZID=Asia/Bangkok:20251124T100000
DTEND;TZID=Asia/Bangkok:20251124T120000
DTSTAMP:20260423T051015
CREATED:20251211T030643Z
LAST-MODIFIED:20251224T072201Z
UID:11429-1763978400-1763985600@tieca.org
SUMMARY:Air Canada จัด กิจกรรม "Air Canada Lunch and Learn" เพื่ออัพเดทข้อมูลเที่ยวบิน เส้นทางการเดินทาง ข้อมูลสำหรับตั๋วนักเรียน และเงื่อนไขในการเดินทางในเส้นทางต่างๆ ของ Air Canada ให้กับสมาชิกสมาคมฯ
DESCRIPTION:24 พฤศจิกายน 2568 \nเวลา 10.00-12.00 น.  ณ ห้องประชุม  Apex Room ชั้น 28 Aetas Lumpini \n  \n     
URL:https://tieca.org/event/air-canada-%e0%b8%88%e0%b8%b1%e0%b8%94-%e0%b8%81%e0%b8%b4%e0%b8%88%e0%b8%81%e0%b8%a3%e0%b8%a3%e0%b8%a1-air-canada-lunch-and-learn-%e0%b9%80%e0%b8%9e%e0%b8%b7%e0%b9%88%e0%b8%ad%e0%b8%ad%e0%b8%b1/
LOCATION:AETAS lumpini Hotel
CATEGORIES:TIECA Events
ATTACH;FMTTYPE=image/png:https://tieca.org/wp-content/uploads/2025/12/Air-Canada.png
END:VEVENT
BEGIN:VEVENT
DTSTART;TZID=Asia/Bangkok:20251126T130000
DTEND;TZID=Asia/Bangkok:20251126T160000
DTSTAMP:20260423T051015
CREATED:20251211T034321Z
LAST-MODIFIED:20251224T072038Z
UID:11461-1764162000-1764172800@tieca.org
SUMMARY:คุณวิภารัตน์ เอื้ออภิญญกุล รองนายกสมาคมฯ คุณอรรณพ กันทาธรรม (กรรมการสมาคมฯ และคุณนพวรรณ จำปาเงิน (ผู้จัดการสมาคมฯ) เข้าร่วมงาน EP x GEDU Partner Day เพื่ออัพเดทอินไซด์เส้นทางการศึกษาต่างประเทศ พร้อมร่วมกิจกรรม และชมภาพยนต์ร่วมกัน
DESCRIPTION:26 พฤศจิกายน 2568\nเวลา 13.00-16.00 น.  ณ Embassy Diplomat Screens ชั้น 6 Central Embassy \n          
URL:https://tieca.org/event/%e0%b8%84%e0%b8%b8%e0%b8%93%e0%b8%a7%e0%b8%b4%e0%b8%a0%e0%b8%b2%e0%b8%a3%e0%b8%b1%e0%b8%95%e0%b8%99%e0%b9%8c-%e0%b9%80%e0%b8%ad%e0%b8%b7%e0%b9%89%e0%b8%ad%e0%b8%ad%e0%b8%a0%e0%b8%b4%e0%b8%8d%e0%b8%8d/
LOCATION:Central Embassy
CATEGORIES:TIECA Events
ATTACH;FMTTYPE=image/png:https://tieca.org/wp-content/uploads/2025/12/EP.png
END:VEVENT
BEGIN:VEVENT
DTSTART;TZID=Asia/Bangkok:20251211T170000
DTEND;TZID=Asia/Bangkok:20251211T210000
DTSTAMP:20260423T051015
CREATED:20251218T060203Z
LAST-MODIFIED:20251224T071905Z
UID:11485-1765472400-1765486800@tieca.org
SUMMARY:คุณวิภารัตน์ เอื้ออภิญญกุล รองนายกสมาคมฯ และคุณนพวรรณ จำปาเงิน ผู้จัดการสมาคมฯ รับเชิญเข้าร่วมงาน TCC & BoT Annual Get Together 2025 and New Year Party
DESCRIPTION:วันพฤหัสบดีที่ 11 ธันวาคม 2568 \nจัดโดยสภาหอการค้าแห่งประเทศไทย เพื่อส่งเสริมและสร้างเครือข่ายความสัมพันธ์ระหว่างคณะทูตานุทูตจากประเทศต่างๆ  กงสุลกิตติมศักดิ์ประจำประเทศไทย หอการค้าต่างประเทศในประเทศไทย หอการค้าจังหวัด สมาคมการค้า หน่วยงานภาครัฐและคณะกรรมการหอการค้าไทยและสภาหอการค้าแห่งประเทศไทย \nเวลา 17.00 – 21.00 น. ณ หอประชุมใหญ่ มหาวิทยมหาวิทยาลัยหอการค้าไทยาลัยหอการค้าไทย \n   
URL:https://tieca.org/event/%e0%b8%84%e0%b8%b8%e0%b8%93%e0%b8%a7%e0%b8%b4%e0%b8%a0%e0%b8%b2%e0%b8%a3%e0%b8%b1%e0%b8%95%e0%b8%99%e0%b9%8c-%e0%b9%80%e0%b8%ad%e0%b8%b7%e0%b9%89%e0%b8%ad%e0%b8%ad%e0%b8%a0%e0%b8%b4%e0%b8%8d-2/
LOCATION:มหาวิทยาลัยหอการค้าไทย
CATEGORIES:TIECA Events
ATTACH;FMTTYPE=image/png:https://tieca.org/wp-content/uploads/2025/12/TCC.png
END:VEVENT
BEGIN:VEVENT
DTSTART;TZID=Asia/Bangkok:20251218T180000
DTEND;TZID=Asia/Bangkok:20251218T210000
DTSTAMP:20260423T051015
CREATED:20251219T070813Z
LAST-MODIFIED:20251224T071754Z
UID:11504-1766080800-1766091600@tieca.org
SUMMARY:คุณศรินยา โตมรศักดิ์ เลขาธิการสมาคมฯ คุณอรรณพ กันทาธรรม กรรมการสมาคมฯ และคุณนพวรรณ จำปาเงิน ผู้จัดการสมาคมฯ รับเชิญเข้าร่วมงาน Alumni UK talks and networking event: insights into the skills and leadership of the future and trends of 2026 and beyond
DESCRIPTION:วันที่ 18 ธันวาคม 2568 \nเสวนาพิเศษ สำหรับศิษย์เก่าสหราชอาณาจักรในครั้งนี้ เพื่อเจาะลึกเกี่ยวกับทักษะแห่งอนาคตและคุณสมบัติของผู้นำที่จะต้องปรับตัวให้ทันกับโลกที่เปลี่ยนแปลงไปอย่างรวดเร็ว รวมถึงทิศทางของตลาดงานและธุรกิจในปี 2569 และปีต่อๆไป \nโดยมีวิทยากรผู้เปี่ยมด้วยประสบการณ์ มาแชร์ข้อคิด และให้คำแนะนำเกี่ยวกับทักษะอนาคต ทักษะที่กำลังเป็นที่ต้องการ และทักษะใดที่ล้าหลัง \n  \nจัดโดยบริติช เคานซิล ประเทศไทย \nเวลา 18.00-21.00 ณ. โรงแรมโนโวเทล สยามสแควร์ \n      
URL:https://tieca.org/event/%e0%b8%84%e0%b8%b8%e0%b8%93%e0%b8%a8%e0%b8%a3%e0%b8%b4%e0%b8%99%e0%b8%a2%e0%b8%b2-%e0%b9%82%e0%b8%95%e0%b8%a1%e0%b8%a3%e0%b8%a8%e0%b8%b1%e0%b8%81%e0%b8%94%e0%b8%b4%e0%b9%8c-%e0%b9%80%e0%b8%a5%e0%b8%82/
LOCATION:โรงแรมโนโวเทล สยามสแควร์
CATEGORIES:TIECA Events
ATTACH;FMTTYPE=image/png:https://tieca.org/wp-content/uploads/2025/12/Alumni.png
END:VEVENT
BEGIN:VEVENT
DTSTART;TZID=Asia/Bangkok:20260212T100000
DTEND;TZID=Asia/Bangkok:20260212T113000
DTSTAMP:20260423T051015
CREATED:20260217T071138Z
LAST-MODIFIED:20260217T073923Z
UID:11560-1770890400-1770895800@tieca.org
SUMMARY:คุณศรินยา โตมรศักดิ์ เลขาธิการสมาคมฯ คุณอรรณพ กันทาธรรม กรรมการสมาคมฯ และคุณนพวรรณ จำปาเงิน ผู้จัดการสมาคมฯ เข้าเยี่ยมโรงเรียน Regent International School Bangkok
DESCRIPTION:คุณศรินยา โตมรศักดิ์ เลขาธิการสมาคมฯ คุณอรรณพ กันทาธรรม กรรมการสมาคมฯ และคุณนพวรรณ จำปาเงิน ผู้จัดการสมาคมฯ เข้าเยี่ยมโรงเรียน Regent International School Bangkok \nเมื่อวันที่ 12 กุมภาพันธ์ 2569 ทางคณะกรรมการบริหารฯ สมาคมฯ เข้าเยี่ยมโรงเรียน Regent International School Bangkok เพื่อพูดคุยและร่วมหาแนวทางความร่วมมือด้านการศึกษาในอนาคตฯ \n 
URL:https://tieca.org/event/%e0%b8%84%e0%b8%b8%e0%b8%93%e0%b8%a8%e0%b8%a3%e0%b8%b4%e0%b8%99%e0%b8%a2%e0%b8%b2-%e0%b9%82%e0%b8%95%e0%b8%a1%e0%b8%a3%e0%b8%a8%e0%b8%b1%e0%b8%81%e0%b8%94%e0%b8%b4%e0%b9%8c-%e0%b9%80%e0%b8%a5-2/
LOCATION:Regent International School Bangkok
CATEGORIES:TIECA Events
ATTACH;FMTTYPE=image/png:https://tieca.org/wp-content/uploads/2026/02/Untitled-design.png
END:VEVENT
BEGIN:VEVENT
DTSTART;TZID=Asia/Bangkok:20260213T170000
DTEND;TZID=Asia/Bangkok:20260213T180000
DTSTAMP:20260423T051015
CREATED:20260217T044333Z
LAST-MODIFIED:20260217T074449Z
UID:11550-1771002000-1771005600@tieca.org
SUMMARY:ทรงพระกรุณาโปรดเกล้าฯ พระราชทานพระบรมราชานุญาต ให้สมาคมไทยแนะแนวการศึกษาต่อต่างประเทศ ร่วมเป็นเจ้าภาพในการบำเพ็ญพระราชกุศล สวดพระอภิธรรม พระบรมศพสมเด็จพระนางเจ้าสิริกิติ์ พระบรมราชินีนาถ พระบรมราชชนนีพันปีหลวง
DESCRIPTION:ทรงพระกรุณาโปรดเกล้าฯ พระราชทานพระบรมราชานุญาต ให้สมาคมไทยแนะแนวการศึกษาต่อต่างประเทศ ร่วมเป็นเจ้าภาพในการบำเพ็ญพระราชกุศล สวดพระอภิธรรม พระบรมศพสมเด็จพระนางเจ้าสิริกิติ์ พระบรมราชินีนาถ พระบรมราชชนนีพันปีหลวง\n\n\n\nโดยมีคณะกรรมการบริหารสมาคมฯ สมาชิกสมาคมฯ และผู้ติดตามเข้าร่วมงาน ในวันศุกร์ที่ 13 กุมภาพันธ์ 2569 ณ พระที่นั่งดุสิตมหาปราสาท เวลา 17:00 น.
URL:https://tieca.org/event/11550/
LOCATION:พระที่นั่งดุสิตมหาปราสาท\, Thailand
CATEGORIES:TIECA Events
ATTACH;FMTTYPE=image/jpeg:https://tieca.org/wp-content/uploads/2026/02/634086515_1241287958105490_7550891873482151429_n-e1771303229593.jpg
END:VEVENT
BEGIN:VEVENT
DTSTART;TZID=Asia/Bangkok:20260314T100000
DTEND;TZID=Asia/Bangkok:20260314T160000
DTSTAMP:20260423T051015
CREATED:20260309T053022Z
LAST-MODIFIED:20260309T053022Z
UID:11580-1773482400-1773504000@tieca.org
SUMMARY:🇨🇭 เรียนเชิญเข้าร่วมอีเวนต์ “เรียนต่อประเทศสวิตเซอร์แลนด์ และพบกับศิษย์เก่าจาก 4 สถาบันในเครือ Swiss Education Group” 👩‍🎓👨‍🎓
DESCRIPTION:🇨🇭 เรียนเชิญเข้าร่วมอีเวนต์ “เรียนต่อประเทศสวิตเซอร์แลนด์ และพบกับศิษย์เก่าจาก 4 สถาบันในเครือ Swiss Education Group” 👩‍🎓👨‍🎓 \n  \n🎓 ปริญญาตรี – อนุปริญญาโท – ปริญญาโท \n🎯 ด้านการโรงแรม บริหารธุรกิจ และศิลปะการทำอาหาร \n  \n📅 วันเสาร์ที่ 14 มีนาคม 2569 \n⏰ เวลา 10.00–16.00 น. \n📍 Emporium Suites ห้อง Heliconia ชั้น EL (เอ็มโพเรียม กรุงเทพฯ) \n  \n🏆 เริ่มต้นเส้นทางสู่มืออาชีพระดับโลก กับ 4 สถาบันชั้นนำจากสวิตเซอร์แลนด์ ติด Top 8 ของโลก \n  \n🎯 10.00–16.00 | Private Counselling \n🔹 เจาะลึกหลักสูตร & จุดเด่นแต่ละสถาบัน \n🔹 โอกาสฝึกงานและทำงานในสวิตเซอร์แลนด์ \n🔹 ข้อมูลค่าใช้จ่าย ทุนการศึกษา และเส้นทางอาชีพ \n  \n🎤 14.00–16.00 | Alumni Sharing Session \n🌍 ฟังประสบการณ์จริงจากศิษย์เก่า ชีวิตนักเรียน การฝึกงาน และเส้นทางอาชีพระดับนานาชาติ \n  \n✍️ ข้อมูลเพิ่มเติม / ลงทะเบียนเข้าร่วมงาน: \nStudy in Switzerland Alumni Panel and Personal Counselling Event \n \n🎓 หลักสูตรที่เปิดสอนมีดังต่อไปนี้ \n  \n🎖 Bachelor of Arts in International Hospitality Management \n🎖 Bachelor of Science in Hospitality Management \n🎖 Bachelor of Business Administration \n🎖 Bachelor of Culinary Arts \n🎖 Bachelor of Arts in Pastry & Chocolate Arts \n  \n🎖 Post Graduate Diploma In International Hotel\, Resort & Spa Management \n  \n🎖 Master of Arts in International Hospitality Business Management \n🎖 Master of Arts in International Hospitality Business-Luxury Brand Management \n🎖 Master of Science in Leadership \n🎖 Master of Science in International Hospitality Business Management \n🎖 Master of Arts in Culinary Business Management \n  \n🎖 Diploma In Culinary Arts \n🎖 Diploma in Pastry Arts \n🎖 Diploma in Hospitality \n🎖 Diploma in Business \n🎖 Summer course \n  \n🤝 พันธมิตรกว่า 100 บริษัททั่วโลก \n🇹🇭 ศิษย์เก่าไทยกว่า 1\,750 คน \n  \n📊 For more information \n☎️ Tel: 02 652 1481 (10:00-18:00) \n📱 Line: studyinswitzerland (มี @ ข้างหน้า) \n📧 Email: counselling@swisseducation.com \n 
URL:https://tieca.org/event/%f0%9f%87%a8%f0%9f%87%ad-%e0%b9%80%e0%b8%a3%e0%b8%b5%e0%b8%a2%e0%b8%99%e0%b9%80%e0%b8%8a%e0%b8%b4%e0%b8%8d%e0%b9%80%e0%b8%82%e0%b9%89%e0%b8%b2%e0%b8%a3%e0%b9%88%e0%b8%a7%e0%b8%a1%e0%b8%ad%e0%b8%b5/
LOCATION:Emporium Suites
CATEGORIES:Agent Events
ATTACH;FMTTYPE=image/png:https://tieca.org/wp-content/uploads/2026/03/Untitled-design.png
END:VEVENT
END:VCALENDAR