BEGIN:VCALENDAR
VERSION:2.0
PRODID:-//สมาคมไทยแนะแนวการศึกษาต่อต่างประเทศ (TIECA) - ECPv6.0.7.1//NONSGML v1.0//EN
CALSCALE:GREGORIAN
METHOD:PUBLISH
X-ORIGINAL-URL:https://tieca.org
X-WR-CALDESC:Events for สมาคมไทยแนะแนวการศึกษาต่อต่างประเทศ (TIECA)
REFRESH-INTERVAL;VALUE=DURATION:PT1H
X-Robots-Tag:noindex
X-PUBLISHED-TTL:PT1H
BEGIN:VTIMEZONE
TZID:Asia/Bangkok
BEGIN:STANDARD
TZOFFSETFROM:+0700
TZOFFSETTO:+0700
TZNAME:+07
DTSTART:20250101T000000
END:STANDARD
END:VTIMEZONE
BEGIN:VEVENT
DTSTART;TZID=Asia/Bangkok:20251126T130000
DTEND;TZID=Asia/Bangkok:20251126T160000
DTSTAMP:20260424T172255
CREATED:20251211T034321Z
LAST-MODIFIED:20251224T072038Z
UID:11461-1764162000-1764172800@tieca.org
SUMMARY:คุณวิภารัตน์ เอื้ออภิญญกุล รองนายกสมาคมฯ คุณอรรณพ กันทาธรรม (กรรมการสมาคมฯ และคุณนพวรรณ จำปาเงิน (ผู้จัดการสมาคมฯ) เข้าร่วมงาน EP x GEDU Partner Day เพื่ออัพเดทอินไซด์เส้นทางการศึกษาต่างประเทศ พร้อมร่วมกิจกรรม และชมภาพยนต์ร่วมกัน
DESCRIPTION:26 พฤศจิกายน 2568\nเวลา 13.00-16.00 น.  ณ Embassy Diplomat Screens ชั้น 6 Central Embassy \n          
URL:https://tieca.org/event/%e0%b8%84%e0%b8%b8%e0%b8%93%e0%b8%a7%e0%b8%b4%e0%b8%a0%e0%b8%b2%e0%b8%a3%e0%b8%b1%e0%b8%95%e0%b8%99%e0%b9%8c-%e0%b9%80%e0%b8%ad%e0%b8%b7%e0%b9%89%e0%b8%ad%e0%b8%ad%e0%b8%a0%e0%b8%b4%e0%b8%8d%e0%b8%8d/
LOCATION:Central Embassy
CATEGORIES:TIECA Events
ATTACH;FMTTYPE=image/png:https://tieca.org/wp-content/uploads/2025/12/EP.png
END:VEVENT
END:VCALENDAR