BEGIN:VCALENDAR
VERSION:2.0
PRODID:-//สมาคมไทยแนะแนวการศึกษาต่อต่างประเทศ (TIECA) - ECPv6.0.7.1//NONSGML v1.0//EN
CALSCALE:GREGORIAN
METHOD:PUBLISH
X-ORIGINAL-URL:https://tieca.org
X-WR-CALDESC:Events for สมาคมไทยแนะแนวการศึกษาต่อต่างประเทศ (TIECA)
REFRESH-INTERVAL;VALUE=DURATION:PT1H
X-Robots-Tag:noindex
X-PUBLISHED-TTL:PT1H
BEGIN:VTIMEZONE
TZID:Asia/Bangkok
BEGIN:STANDARD
TZOFFSETFROM:+0700
TZOFFSETTO:+0700
TZNAME:+07
DTSTART:20250101T000000
END:STANDARD
END:VTIMEZONE
BEGIN:VEVENT
DTSTART;TZID=Asia/Bangkok:20251118T090000
DTEND;TZID=Asia/Bangkok:20251118T160000
DTSTAMP:20260422T202551
CREATED:20251211T032920Z
LAST-MODIFIED:20251224T072501Z
UID:11445-1763456400-1763481600@tieca.org
SUMMARY:สมาชิกสมาคมฯ รับเชิญเข้าร่วมงาน CPF & APF Bangkok (Canada Partnership Forum & America Partnership Forum)
DESCRIPTION:18 พฤศจิกายน 2568 \nโดยมีสถาบันจากประเทศแคนาดา และสหรัฐอเมริกา มาอัพเดทข้อมูลหลักสูตรต่างๆ ให้กับตัวแทนจากบริษัทแนะแนวการศึกษาต่อต่างประเทศ สถาบันที่เข้าร่วมงาน มีดังนี้ \n• ILAC Education Group & UniApplyNow\n• Royal Roads University\n• Trine University\n• Saskatchewan Polytechnic\n• International Business University\n• Algoma University\n• Selkirk College\n• Langara College \nเวลา 9.00 -16.00 น. ณ The St. Regis Bangkok \n       
URL:https://tieca.org/event/%e0%b8%aa%e0%b8%a1%e0%b8%b2%e0%b8%8a%e0%b8%b4%e0%b8%81%e0%b8%aa%e0%b8%a1%e0%b8%b2%e0%b8%84%e0%b8%a1%e0%b8%af-%e0%b8%a3%e0%b8%b1%e0%b8%9a%e0%b9%80%e0%b8%8a%e0%b8%b4%e0%b8%8d%e0%b9%80%e0%b8%82%e0%b9%89/
LOCATION:The St. Regis Bangkok
CATEGORIES:TIECA Events
ATTACH;FMTTYPE=image/png:https://tieca.org/wp-content/uploads/2025/12/APF.png
END:VEVENT
END:VCALENDAR