BEGIN:VCALENDAR
VERSION:2.0
PRODID:-//สมาคมไทยแนะแนวการศึกษาต่อต่างประเทศ (TIECA) - ECPv6.0.7.1//NONSGML v1.0//EN
CALSCALE:GREGORIAN
METHOD:PUBLISH
X-WR-CALNAME:สมาคมไทยแนะแนวการศึกษาต่อต่างประเทศ (TIECA)
X-ORIGINAL-URL:https://tieca.org
X-WR-CALDESC:Events for สมาคมไทยแนะแนวการศึกษาต่อต่างประเทศ (TIECA)
REFRESH-INTERVAL;VALUE=DURATION:PT1H
X-Robots-Tag:noindex
X-PUBLISHED-TTL:PT1H
BEGIN:VTIMEZONE
TZID:Asia/Bangkok
BEGIN:STANDARD
TZOFFSETFROM:+0700
TZOFFSETTO:+0700
TZNAME:+07
DTSTART:20250101T000000
END:STANDARD
END:VTIMEZONE
BEGIN:VEVENT
DTSTART;TZID=Asia/Bangkok:20251108T130000
DTEND;TZID=Asia/Bangkok:20251108T163000
DTSTAMP:20260422T202459
CREATED:20251103T032848Z
LAST-MODIFIED:20251103T032848Z
UID:11288-1762606800-1762619400@tieca.org
SUMMARY:OEC Smart Start Expo 2025 มางานเดียวจบ พร้อมคุยกับ 30+ สถาบันตัวจริง...เคลียร์ทุกอย่างที่สงสัยพร้อมรับทุนเพียบ
DESCRIPTION:#วันเดียวคุ้ม มหกรรมเรียนต่อต่างประเทศ 2025 #แจกทุนเรียนฟรี 100% แค่ลงทะเบียนก็มีสิทธิ์ลุ้น! สิทธิพิเศษเฉพาะผู้ลงทะเบียนออนไลน์ล่วงหน้าเท่านั้น\n#OECSmartStartExpo2025 มางานเดียวจบ พร้อมคุยกับ 30+ สถาบันตัวจริง…เคลียร์ทุกอย่างที่สงสัยพร้อมรับทุนเพียบ\n. \nOEC SmartStart Expo 2025\n🗓️ วันเสาร์ที่ 8 พ.ย. 68\n⏰ 13:00 – 16:30 น.\n📍 โรงแรม InterContinental Bangkok\, (BTS ชิดลม)\n✅ เข้าร่วมงานฟรี ลงทะเบียนเลย 👉 https://www.oecglobal.net/application6/\n.\n✨ มางานนี้…ได้อะไรกลับไปบ้าง?\n🏆 ลุ้นรางวัลใหญ่ #ทุนเรียนฟรีที่ประเทศอังกฤษ และทุนเรียนภาษาออนไลน์ฟรี 3 เดือน!\n💰 โอกาสรับทุนสูงสุด 100% จากสถาบันชั้นนำที่เข้าร่วมงาน \n👩‍⚕️ ทุนเรียนพยาบาลฟรี 100% ที่สิงคโปร์ เรียนจบพร้อมทำงานต่อ 6 ปี\n🤝 เจอตัวจริงกว่า 30 สถาบัน พูดคุยโดยตรงกับเจ้าหน้าที่จากมหาวิทยาลัย\, College\, และโรงเรียนภาษาทั่วโลก!\n🎤 ฟัง 4 สัมมนาสุด Exclusive อัปเดตเทรนด์การเรียนต่อ\, เทคนิคเขียน CV\, และเส้นทางสู่มหาลัยท็อป!\n✨ กิจกรรมสนุกๆ อีกเพียบ (แอบกระซิบว่ามีทั้งดูดวง สแกนนิ้ว และ Photobooth ด้วยนะ!)\n💸 พิเศษ! รับส่วนลดทันที 5\,000 บาท เมื่อสมัครเรียนทุกโปรแกรมภายในงาน\n.\n👉 อ่านรายละเอียดเพิ่มเติม https://www.oecglobal.com/OECSmartStartExpo.html
URL:https://tieca.org/event/oec-smart-start-expo-2025-%e0%b8%a1%e0%b8%b2%e0%b8%87%e0%b8%b2%e0%b8%99%e0%b9%80%e0%b8%94%e0%b8%b5%e0%b8%a2%e0%b8%a7%e0%b8%88%e0%b8%9a-%e0%b8%9e%e0%b8%a3%e0%b9%89%e0%b8%ad%e0%b8%a1%e0%b8%84%e0%b8%b8/
LOCATION:โรงแรม InterContinental Bangkok\, (BTS ชิดลม)
CATEGORIES:Agent Events
ATTACH;FMTTYPE=image/jpeg:https://tieca.org/wp-content/uploads/2025/11/OEC_SmartStart_Expo_8Nov25-website.jpg
END:VEVENT
BEGIN:VEVENT
DTSTART;TZID=Asia/Bangkok:20251108T133000
DTEND;TZID=Asia/Bangkok:20251108T160000
DTSTAMP:20260422T202459
CREATED:20251103T035326Z
LAST-MODIFIED:20251103T040009Z
UID:11297-1762608600-1762617600@tieca.org
SUMMARY:เรียนต่อจีนต้องรู้ พบกับข้อมูลเจาะลึกข้อสอบ CSCA จัดโดยศูนย์แนะแนวโอเวอร์ซีส์ สตั้ดดี้ ฮับ
DESCRIPTION:👍 อยากไปเรียนจีนเชิญทางนี้ จัดแน่นครบทุกมิติ \n  \n\nรู้จักมหาวิทยาลัยจีน\nการเตรียมตัว วิธีการเลือกมหาวิทยาลัย และ เกณฑ์คุณสมบัติ\nข้อสอบ CSCA\nประเภทของทุนจีน Guarantee Scholarship มีอยู่จริงไหม\nรับข้อมูล และ Panel Discussion กับอาจารย์มหาวิทยาลัยBeijing Foreign Studies (BFSU) Top 20 ของจีน (บินตรงมาจากกรุงปักกิ่ง)\nพบปะพูดคุยกับพี่ศิษย์เก่า ที่จบจากมหาวิทยาลัยประเทศจีน\n\n  \nงานนี้เข้าฟังฟรีนะคะ 😄 \nแจ้งชื่อ และจำนวนคนที่เข้าฟังได้เลยค่ะ \n  \n📆 วันเสาร์ที่ 8 พฤศจิกายน 2568 (13:30-16:00) \n📍 โรงแรม AVANI – สุขุมวิท \n🚊 สถานีรถไฟฟ้า BTS อ่อนนุช \n📞 086 393 1938
URL:https://tieca.org/event/%e0%b9%80%e0%b8%a3%e0%b8%b5%e0%b8%a2%e0%b8%99%e0%b8%95%e0%b9%88%e0%b8%ad%e0%b8%88%e0%b8%b5%e0%b8%99%e0%b8%95%e0%b9%89%e0%b8%ad%e0%b8%87%e0%b8%a3%e0%b8%b9%e0%b9%89-%e0%b8%9e%e0%b8%9a%e0%b8%81%e0%b8%b1/
LOCATION:โรงแรม AVANI – สุขุมวิท
CATEGORIES:Agent Events
ATTACH;FMTTYPE=image/jpeg:https://tieca.org/wp-content/uploads/2025/11/website.jpg
END:VEVENT
END:VCALENDAR