BEGIN:VCALENDAR
VERSION:2.0
PRODID:-//สมาคมไทยแนะแนวการศึกษาต่อต่างประเทศ (TIECA) - ECPv6.0.7.1//NONSGML v1.0//EN
CALSCALE:GREGORIAN
METHOD:PUBLISH
X-ORIGINAL-URL:https://tieca.org
X-WR-CALDESC:Events for สมาคมไทยแนะแนวการศึกษาต่อต่างประเทศ (TIECA)
REFRESH-INTERVAL;VALUE=DURATION:PT1H
X-Robots-Tag:noindex
X-PUBLISHED-TTL:PT1H
BEGIN:VTIMEZONE
TZID:Asia/Bangkok
BEGIN:STANDARD
TZOFFSETFROM:+0700
TZOFFSETTO:+0700
TZNAME:+07
DTSTART:20250101T000000
END:STANDARD
END:VTIMEZONE
BEGIN:VEVENT
DTSTART;TZID=Asia/Bangkok:20250922T100000
DTEND;TZID=Asia/Bangkok:20250922T120000
DTSTAMP:20260424T184017
CREATED:20251211T023301Z
LAST-MODIFIED:20251224T064545Z
UID:11407-1758535200-1758542400@tieca.org
SUMMARY:สถาบัน Top Up Learning\, UK จัดสัมมนา เพื่อให้ข้อมูลหลักสูตรของสถาบัน กับสมาชิกสมาคมฯ
DESCRIPTION:22 กันยายน 2568\nเวลา 10.00 -12.00 น. ณ ห้องประชุม Ficus โรงแรมอีสติน แกรนด์ พญาไท \n            
URL:https://tieca.org/event/%e0%b8%aa%e0%b8%96%e0%b8%b2%e0%b8%9a%e0%b8%b1%e0%b8%99-top-up-learning-uk-%e0%b8%88%e0%b8%b1%e0%b8%94%e0%b8%aa%e0%b8%b1%e0%b8%a1%e0%b8%a1%e0%b8%99%e0%b8%b2-%e0%b9%80%e0%b8%9e%e0%b8%b7%e0%b9%88/
LOCATION:โรงแรมอีสติน แกรนด์ พญาไท\, Thailand
CATEGORIES:TIECA Events
ATTACH;FMTTYPE=image/png:https://tieca.org/wp-content/uploads/2025/12/1.png
END:VEVENT
END:VCALENDAR