BEGIN:VCALENDAR
VERSION:2.0
PRODID:-//สมาคมไทยแนะแนวการศึกษาต่อต่างประเทศ (TIECA) - ECPv6.0.7.1//NONSGML v1.0//EN
CALSCALE:GREGORIAN
METHOD:PUBLISH
X-ORIGINAL-URL:https://tieca.org/en/
X-WR-CALDESC:Events for สมาคมไทยแนะแนวการศึกษาต่อต่างประเทศ (TIECA)
REFRESH-INTERVAL;VALUE=DURATION:PT1H
X-Robots-Tag:noindex
X-PUBLISHED-TTL:PT1H
BEGIN:VTIMEZONE
TZID:Asia/Bangkok
BEGIN:STANDARD
TZOFFSETFROM:+0700
TZOFFSETTO:+0700
TZNAME:+07
DTSTART:20250101T000000
END:STANDARD
END:VTIMEZONE
BEGIN:VEVENT
DTSTART;TZID=Asia/Bangkok:20251108T133000
DTEND;TZID=Asia/Bangkok:20251108T160000
DTSTAMP:20260422T214513
CREATED:20251103T035326Z
LAST-MODIFIED:20251103T035420Z
UID:11304-1762608600-1762617600@tieca.org
SUMMARY:What you need to know about studying in China: In-depth information on the CSCA exam\, provided by the Overseas Study Hub Counseling Center.
DESCRIPTION:👍 Want to study Chinese? Come this way. We have everything you need. \n  \n\nGet to know Chinese universities\nPreparation\, How to Choose a University and Qualifications\nCSCA exam\nDoes the China Guarantee Scholarship really exist?\nGet information and panel discussions with professors from Beijing Foreign Studies University (BFSU)\, a top 20 university in China (directly from Beijing).\nMeet and talk with alumni who graduated from universities in China.\n\n  \nThis event is free to attend 😄 \nPlease let us know the names and number of people attending. \n  \n📆 Saturday\, November 8\, 2025 (1:30 PM – 4:00 PM) \n📍 AVANI Hotel – Sukhumvit \n🚊 BTS On Nut Station \n📞 086 393 1938
URL:https://tieca.org/en/event/what-you-need-to-know-about-studying-in-china-in-depth-information-on-the-csca-exam-provided-by-the-overseas-study-hub-counseling-center/
LOCATION:โรงแรม AVANI – สุขุมวิท
CATEGORIES:Agent Events
ATTACH;FMTTYPE=image/jpeg:https://tieca.org/wp-content/uploads/2025/11/website.jpg
END:VEVENT
BEGIN:VEVENT
DTSTART;TZID=Asia/Bangkok:20251109T130000
DTEND;TZID=Asia/Bangkok:20251109T170000
DTSTAMP:20260422T214513
CREATED:20251031T061503Z
LAST-MODIFIED:20251031T061503Z
UID:11287-1762693200-1762707600@tieca.org
SUMMARY:Study in Australia with the number 1 university in the country and 19 in the world. See you at The University of Melbourne Open Day Bangkok 2025.
DESCRIPTION:Study in Australia with the number 1 university in the country and 19 in the world. See you at The University of Melbourne Open Day Bangkok 2025. \n🗓 Date: Sunday 9 November 2025 \n🕐 Time: 1:00 – 5:00 pm \n🏢 Venue: State Room 1-2\, The Westin Grande Sukhumvit 8th floor (BTS Asok Exit 5) \n🔗 Register: https://bit.ly/unimelbBkk2025 \n**Join the event for free!! Without any cost at all** \nAt the event\, students will receive information about The University of Melbourne\, admissions criteria for each faculty\, scholarships\, and preparation before traveling directly from university officials. \nOfficials from the group who will meet at this event \n🔹Faculty of Business\, Economies \n🔹Faculty of Education \n🔹Melbourne Law School \n🔹Faculty of Science \n🔹Faculty of Arts \n🔹Trinity College \nFor more information\, please contact us at Education For Life. We are the official representative of The University of Melbourne. Our service is free at every step. \n〰 Tel: 091-742-5900 \n〰 Line Official Account : @EFLBKK
URL:https://tieca.org/en/event/study-in-australia-with-the-number-1-university-in-the-country-and-19-in-the-world-see-you-at-the-university-of-melbourne-open-day-bangkok-2025/
LOCATION:The Westin Grande Sukhumvit
CATEGORIES:Agent Events
ATTACH;FMTTYPE=image/png:https://tieca.org/wp-content/uploads/2025/10/openhouse_fb1.png
END:VEVENT
BEGIN:VEVENT
DTSTART;TZID=Asia/Bangkok:20251112T140000
DTEND;TZID=Asia/Bangkok:20251112T160000
DTSTAMP:20260422T214513
CREATED:20251112T224823Z
LAST-MODIFIED:20251112T225548Z
UID:11359-1762956000-1762963200@tieca.org
SUMMARY:12 November 2025 Ms. Sarinya Tomornsak\, Secretary-General of the Association\, attended the 1st/2025 Thai-International Trade Association Meeting from 2:00 PM to 4:00 PM at Meeting Room 2307\, 3rd Floor\, Charoen Sibunruang Building\, Thai Chamber of Commerce.
DESCRIPTION:November 12\, 2025 \nMs. Sarinya Tomornsak\, Secretary-General of the Association\, attended the 1st/2025 Thai-International Trade Association Meeting from 2:00 PM to 4:00 PM in Meeting Room 2307\, 3rd Floor\, Charoen Sibunruang Building\, Thai Chamber of Commerce.  \nThe Thai Chamber of Commerce has an important policy to promote and develop the network of trade associations in order to increase competitiveness and develop the country’s economy. Therefore\, it has appointed a Trade Association Promotion and Development Committee to help oversee\, support\, and promote trade associations that are members of the Thai Chamber of Commerce. The Thai Overseas Education Guidance Association is one of the committee members of the Thai-International Trade Association.
URL:https://tieca.org/en/event/12-november-2025-ms-sarinya-tomornsak-secretary-general-of-the-association-attended-the-1st-2025-thai-international-trade-association-meeting-from-200-pm-to-400-pm-at-meeting-room-2307-3rd-floor/
LOCATION:สภาหอการค้าแห่งประเทศไทย
CATEGORIES:TIECA Events
ATTACH;FMTTYPE=image/jpeg:https://tieca.org/wp-content/uploads/2025/11/IMG_0919-1.jpeg
END:VEVENT
END:VCALENDAR