BEGIN:VCALENDAR
VERSION:2.0
PRODID:-//สมาคมไทยแนะแนวการศึกษาต่อต่างประเทศ (TIECA) - ECPv6.0.7.1//NONSGML v1.0//EN
CALSCALE:GREGORIAN
METHOD:PUBLISH
X-ORIGINAL-URL:https://tieca.org/en/
X-WR-CALDESC:Events for สมาคมไทยแนะแนวการศึกษาต่อต่างประเทศ (TIECA)
REFRESH-INTERVAL;VALUE=DURATION:PT1H
X-Robots-Tag:noindex
X-PUBLISHED-TTL:PT1H
BEGIN:VTIMEZONE
TZID:Asia/Bangkok
BEGIN:STANDARD
TZOFFSETFROM:+0700
TZOFFSETTO:+0700
TZNAME:+07
DTSTART:20250101T000000
END:STANDARD
END:VTIMEZONE
BEGIN:VEVENT
DTSTART;VALUE=DATE:20250706
DTEND;VALUE=DATE:20250707
DTSTAMP:20260423T021312
CREATED:20250605T030244Z
LAST-MODIFIED:20250605T030244Z
UID:10720-1751760000-1751846399@tieca.org
SUMMARY:สัมผัสประสบการณ์ชีวิตในโรงเรียนประจำอังกฤษ พร้อมกิจกรรมแสนสนุก ทั้งสำหรับผู้ปกครองและบุตรหลาน
DESCRIPTION:English language courses for families in the UK \nExperience life in a British boarding school with fun activities for both parents and children. \nParent & Child Course @ Moreton Hall \nJuly 6 – August 17\, 2025 (select from 1–6 weeks) \nOswestry Town \nFor children aged 3–13 years \nNo English language skills are required to participate. \nProgram highlights \nLearn English with fun activities every day. \nChildren learn and play with international friends in the Holiday Club. \nEducational tours\, castle tours\, various sports\, swimming and music. \nParents learn English and English culture. \nComfortable accommodation on campus with 3 full meals included. \nAll inclusive expenses (excluding airport transfers\, visa fees and airfare) \n1 adult + 1 child: £2\,620/week \nAdd children: +£1\,310 \nAdd adults: +£1\,310 \nInterested in booking or asking for more information? \noheabroad@gmail.com \nLine ID: oh-Supaporn \nwww.e-abroad.com \nThere are staff to take care of and coordinate in England.
URL:https://tieca.org/en/event/%e0%b8%aa%e0%b8%b1%e0%b8%a1%e0%b8%9c%e0%b8%b1%e0%b8%aa%e0%b8%9b%e0%b8%a3%e0%b8%b0%e0%b8%aa%e0%b8%9a%e0%b8%81%e0%b8%b2%e0%b8%a3%e0%b8%93%e0%b9%8c%e0%b8%8a%e0%b8%b5%e0%b8%a7%e0%b8%b4%e0%b8%95%e0%b9%83/
LOCATION:Moreton Hall
CATEGORIES:Agent Events
ATTACH;FMTTYPE=image/jpeg:https://tieca.org/wp-content/uploads/2025/06/E-Abroad.jpeg
END:VEVENT
END:VCALENDAR