BEGIN:VCALENDAR
VERSION:2.0
PRODID:-//สมาคมไทยแนะแนวการศึกษาต่อต่างประเทศ (TIECA) - ECPv6.0.7.1//NONSGML v1.0//EN
CALSCALE:GREGORIAN
METHOD:PUBLISH
X-WR-CALNAME:สมาคมไทยแนะแนวการศึกษาต่อต่างประเทศ (TIECA)
X-ORIGINAL-URL:https://tieca.org/en/
X-WR-CALDESC:Events for สมาคมไทยแนะแนวการศึกษาต่อต่างประเทศ (TIECA)
REFRESH-INTERVAL;VALUE=DURATION:PT1H
X-Robots-Tag:noindex
X-PUBLISHED-TTL:PT1H
BEGIN:VTIMEZONE
TZID:Asia/Bangkok
BEGIN:STANDARD
TZOFFSETFROM:+0700
TZOFFSETTO:+0700
TZNAME:+07
DTSTART:20260101T000000
END:STANDARD
END:VTIMEZONE
BEGIN:VEVENT
DTSTART;TZID=Asia/Bangkok:20260314T100000
DTEND;TZID=Asia/Bangkok:20260314T160000
DTSTAMP:20260423T131445
CREATED:20260309T053022Z
LAST-MODIFIED:20260309T053446Z
UID:11587-1773482400-1773504000@tieca.org
SUMMARY:🇨🇭 You are cordially invited to the event “Study in Switzerland and Meet Alumni from 4 Institutions in the Swiss Education Group” 👩‍🎓👨‍🎓
DESCRIPTION:🇨🇭 You are cordially invited to the event “Study in Switzerland and Meet Alumni from 4 Institutions in the Swiss Education Group” 👩‍🎓👨‍🎓 \n  \n🎓 Bachelor’s Degree – Associate Degree – Master’s Degree \n🎯 In the fields of hospitality\, business administration\, and culinary arts. \n  \n📅 Saturday\, March 14\, 2026 \n⏰ Time: 10:00 AM – 4:00 PM \n📍 Emporium Suites\, Heliconia Room\, EL Floor (Emporium Bangkok) \n  \n🏆 Start your journey to becoming a world-class professional with 4 leading institutions from Switzerland\, ranked among the Top 8 in the world. \n  \n🎯 10.00–16.00 | Private Counseling \n🔹 In-depth look at the courses and strengths of each institution. \n🔹 Internship and work opportunities in Switzerland. \n🔹 Information on expenses\, scholarships\, and career paths. \n  \n🎤 14.00–16.00 | Alumni Sharing Session \n🌍 Hear real experiences from alumni about student life\, internships\, and international career paths. \n  \n✍️ For more information / to register: \nStudy Hospitality Management\, Culinary Arts\, or Business in Switzerland – Seminar \n \n🎓 The courses offered are as follows: \n  \n🎖 Bachelor of Arts in International Hospitality Management \n🎖 Bachelor of Science in Hospitality Management \n🎖 Bachelor of Business Administration \n🎖 Bachelor of Culinary Arts \n🎖 Bachelor of Arts in Pastry & Chocolate Arts \n  \n🎖 Post Graduate Diploma In International Hotel\, Resort & Spa Management \n  \n🎖 Master of Arts in International Hospitality Business Management \n🎖 Master of Arts in International Hospitality Business-Luxury Brand Management \n🎖 Master of Science in Leadership \n🎖 Master of Science in International Hospitality Business Management \n🎖 Master of Arts in Culinary Business Management \n  \n🎖 Diploma in Culinary Arts \n🎖 Diploma in Pastry Arts \n🎖 Diploma in Hospitality \n🎖 Diploma in Business \n🎖 Summer course \n  \n🤝 Over 100 partner companies worldwide. \n🇹🇭 Over 1\,750 Thai alumni. \n  \n📊 For more information \n☎️ Tel: 02 652 1481 (10:00-18:00) \n📱 Line: studyinswitzerland (include the @ symbol) \n📧 Email: counselling@swisseducation.com \n 
URL:https://tieca.org/en/event/%f0%9f%87%a8%f0%9f%87%ad-you-are-cordially-invited-to-the-event-study-in-switzerland-and-meet-alumni-from-4-institutions-in-the-swiss-education-group-%f0%9f%91%a9/
LOCATION:Emporium Suites
CATEGORIES:Agent Events
ATTACH;FMTTYPE=image/png:https://tieca.org/wp-content/uploads/2026/03/Untitled-design.png
END:VEVENT
BEGIN:VEVENT
DTSTART;TZID=Asia/Bangkok:20260421T190000
DTEND;TZID=Asia/Bangkok:20260421T213000
DTSTAMP:20260423T131445
CREATED:20260423T040343Z
LAST-MODIFIED:20260423T040515Z
UID:11606-1776798000-1776807000@tieca.org
SUMMARY:On April 21\, 2026\, Ms. Patcharaporn Boonkird\, President of the Association\, and Ms. Noppawan Champaeng\, Manager of the Association\, were invited to attend the QS Discover Master's & MBA Fair.
DESCRIPTION:April 21\, 2026\n Ms. Patcharaporn Boonkird\, President of the Association\, and Ms. Noppawan Champaeng\, Manager of the Association\, were invited to attend the QS Discover Master’s & MBA Fair at the Hilton Bangkok Grand Asoke Hotel from 7:00 PM to 9:30 PM. \n This event is organized to allow those interested in studying abroad to meet and speak directly with leading universities and business schools worldwide\, in order to obtain information\, including scholarship opportunities offered by each institution.
URL:https://tieca.org/en/event/on-april-21-2026-ms-patcharaporn-boonkird-president-of-the-association-and-ms-noppawan-champaeng-manager-of-the-association-were-invited-to-attend-the-qs-discover-masters-mba-fair/
LOCATION:โรงแรมฮิลตัน กรุงเทพ แกรนด์ อโศก
CATEGORIES:TIECA Events
ATTACH;FMTTYPE=image/jpeg:https://tieca.org/wp-content/uploads/2026/04/QS-Event.jpg
END:VEVENT
END:VCALENDAR