BEGIN:VCALENDAR
VERSION:2.0
PRODID:-//สมาคมไทยแนะแนวการศึกษาต่อต่างประเทศ (TIECA) - ECPv6.0.7.1//NONSGML v1.0//EN
CALSCALE:GREGORIAN
METHOD:PUBLISH
X-ORIGINAL-URL:https://tieca.org/en/
X-WR-CALDESC:Events for สมาคมไทยแนะแนวการศึกษาต่อต่างประเทศ (TIECA)
REFRESH-INTERVAL;VALUE=DURATION:PT1H
X-Robots-Tag:noindex
X-PUBLISHED-TTL:PT1H
BEGIN:VTIMEZONE
TZID:Asia/Bangkok
BEGIN:STANDARD
TZOFFSETFROM:+0700
TZOFFSETTO:+0700
TZNAME:+07
DTSTART:20260101T000000
END:STANDARD
END:VTIMEZONE
BEGIN:VEVENT
DTSTART;TZID=Asia/Bangkok:20260213T170000
DTEND;TZID=Asia/Bangkok:20260213T180000
DTSTAMP:20260422T152155
CREATED:20260217T044333Z
LAST-MODIFIED:20260217T044859Z
UID:11558-1771002000-1771005600@tieca.org
SUMMARY:His Majesty the King has graciously granted permission for the Thai Association for Overseas Education Guidance to co-host the Buddhist funeral rites and chanting of prayers for the late Queen Sirikit\, the Queen Mother.
DESCRIPTION:His Majesty the King has graciously granted permission for the Thai Association for Overseas Education Guidance to co-host the Buddhist funeral rites and chanting of prayers for the late Queen Sirikit\, the Queen Mother.\n\n\n\nThe event will be attended by the association’s executive committee\, members\, and their companions on Friday\, February 13\, 2026\, at Dusit Maha Prasat Throne Hall at 5:00 PM.
URL:https://tieca.org/en/event/his-majesty-the-king-has-graciously-granted-permission-for-the-thai-association-for-overseas-education-guidance-to-co-host-the-buddhist-funeral-rites-and-chanting-of-prayers-for-the-late-queen-sirikit/
LOCATION:พระที่นั่งดุสิตมหาปราสาท\, Thailand
CATEGORIES:TIECA Events
ATTACH;FMTTYPE=image/jpeg:https://tieca.org/wp-content/uploads/2026/02/634086515_1241287958105490_7550891873482151429_n-e1771303229593.jpg
END:VEVENT
END:VCALENDAR