BEGIN:VCALENDAR
VERSION:2.0
PRODID:-//สมาคมไทยแนะแนวการศึกษาต่อต่างประเทศ (TIECA) - ECPv6.0.7.1//NONSGML v1.0//EN
CALSCALE:GREGORIAN
METHOD:PUBLISH
X-WR-CALNAME:สมาคมไทยแนะแนวการศึกษาต่อต่างประเทศ (TIECA)
X-ORIGINAL-URL:https://tieca.org/en/
X-WR-CALDESC:Events for สมาคมไทยแนะแนวการศึกษาต่อต่างประเทศ (TIECA)
REFRESH-INTERVAL;VALUE=DURATION:PT1H
X-Robots-Tag:noindex
X-PUBLISHED-TTL:PT1H
BEGIN:VTIMEZONE
TZID:Asia/Bangkok
BEGIN:STANDARD
TZOFFSETFROM:+0700
TZOFFSETTO:+0700
TZNAME:+07
DTSTART:20250101T000000
END:STANDARD
END:VTIMEZONE
BEGIN:VEVENT
DTSTART;TZID=Asia/Bangkok:20251108T133000
DTEND;TZID=Asia/Bangkok:20251108T160000
DTSTAMP:20260422T224920
CREATED:20251103T035326Z
LAST-MODIFIED:20251103T035420Z
UID:11304-1762608600-1762617600@tieca.org
SUMMARY:What you need to know about studying in China: In-depth information on the CSCA exam\, provided by the Overseas Study Hub Counseling Center.
DESCRIPTION:👍 Want to study Chinese? Come this way. We have everything you need. \n  \n\nGet to know Chinese universities\nPreparation\, How to Choose a University and Qualifications\nCSCA exam\nDoes the China Guarantee Scholarship really exist?\nGet information and panel discussions with professors from Beijing Foreign Studies University (BFSU)\, a top 20 university in China (directly from Beijing).\nMeet and talk with alumni who graduated from universities in China.\n\n  \nThis event is free to attend 😄 \nPlease let us know the names and number of people attending. \n  \n📆 Saturday\, November 8\, 2025 (1:30 PM – 4:00 PM) \n📍 AVANI Hotel – Sukhumvit \n🚊 BTS On Nut Station \n📞 086 393 1938
URL:https://tieca.org/en/event/what-you-need-to-know-about-studying-in-china-in-depth-information-on-the-csca-exam-provided-by-the-overseas-study-hub-counseling-center/
LOCATION:โรงแรม AVANI – สุขุมวิท
CATEGORIES:Agent Events
ATTACH;FMTTYPE=image/jpeg:https://tieca.org/wp-content/uploads/2025/11/website.jpg
END:VEVENT
END:VCALENDAR