BEGIN:VCALENDAR
VERSION:2.0
PRODID:-//สมาคมไทยแนะแนวการศึกษาต่อต่างประเทศ (TIECA) - ECPv6.0.7.1//NONSGML v1.0//EN
CALSCALE:GREGORIAN
METHOD:PUBLISH
X-ORIGINAL-URL:https://tieca.org/en/
X-WR-CALDESC:Events for สมาคมไทยแนะแนวการศึกษาต่อต่างประเทศ (TIECA)
REFRESH-INTERVAL;VALUE=DURATION:PT1H
X-Robots-Tag:noindex
X-PUBLISHED-TTL:PT1H
BEGIN:VTIMEZONE
TZID:Asia/Bangkok
BEGIN:STANDARD
TZOFFSETFROM:+0700
TZOFFSETTO:+0700
TZNAME:+07
DTSTART:20250101T000000
END:STANDARD
END:VTIMEZONE
BEGIN:VEVENT
DTSTART;TZID=Asia/Bangkok:20250531T140000
DTEND;TZID=Asia/Bangkok:20250531T150000
DTSTAMP:20260423T042400
CREATED:20250514T155103Z
LAST-MODIFIED:20250514T160100Z
UID:10695-1748700000-1748703600@tieca.org
SUMMARY:Go Germany! เปิดประตูสู่อนาคตกับเยอรมนี สัมมนาออนไลน์เรียนภาษาเพื่อไปเรียนต่อและทำงาน
DESCRIPTION:Go Germany! เปิดประตูสู่อนาคตกับเยอรมนี สัมมนาออนไลน์เรียนภาษาเพื่อไปเรียนต่อและทำงานในประเทศเยอรมนีแบบครบจบใน 1 ชั่วโมง!\n– วันเสาร์ที่ 31 พฤษภาคม 2568\n– เวลา 14.00 – 15.00 น.\n– ฟรี! ผ่าน  Zoom \nอยากเรียนต่อที่ประเทศเยอรมันนี พบกับสัมมนาสุดพิเศษ “Go Germany!” ที่จะพาคุณไปเจาะลึกเส้นทางสู่เยอรมนี ทั้งด้านภาษา การเรียน และอาชีพ พร้อมเคล็ดลับเตรียมตัว \n– เหมาะสำหรับนักเรียน นักศึกษา ผู้ปกครอง และคนทั่วไปที่สนใจศึกษาต่อที่เยอรมันนี \nวิทยากร: พี่บลู จาก OEC ผู้เชี่ยวชาญด้านการศึกษาต่อเยอรมนี \nหัวข้อที่น่าสนใจ:\n1. ทำความรู้จักกับประเทศที่ใช้ภาษาเยอรมัน\n2. โอกาสในการศึกษาต่อ\n3. โอกาสในการทำงาน\n4. เตรียมตัวอย่างไรให้พร้อมสำหรับการเรียนและทำงาน\n5. แนะนำสถาบันและโปรโมชั่นค่าเล่าเรียนภาษาเยอรมัน \nลงทะเบียนด่วน! ที่นั่งมีจำนวนจำกัด \n[ลงทะเบียนเพื่อรับ link Zoom] https://www.oecglobal.com/Work_and_Study_Germany.html\n—————————- \nFor more information\, please contact OEC Global Education. \n\nสำนักงานหัวหมาก: 02-7206844-6\, LINE ID: @oecglobal\n.\nสำนักงานปิ่นเกล้า: 02-8819344\, LINE ID: oecpinklao\n.\nสำนักงานเชียงใหม่: 053-285157\, LINE ID: oeccm3
URL:https://tieca.org/en/event/go-germany-%e0%b9%80%e0%b8%9b%e0%b8%b4%e0%b8%94%e0%b8%9b%e0%b8%a3%e0%b8%b0%e0%b8%95%e0%b8%b9%e0%b8%aa%e0%b8%b9%e0%b9%88%e0%b8%ad%e0%b8%99%e0%b8%b2%e0%b8%84%e0%b8%95%e0%b8%81%e0%b8%b1%e0%b8%9a/
LOCATION:zoom online
CATEGORIES:Agent Events
ATTACH;FMTTYPE=image/jpeg:https://tieca.org/wp-content/uploads/2025/05/OEC_Germany.jpg
END:VEVENT
END:VCALENDAR